Package: GrafGen Version: 1.6.0 Command: /Library/Frameworks/R.framework/Resources/bin/R CMD INSTALL GrafGen StartedAt: 2025-11-20 16:50:33 -0500 (Thu, 20 Nov 2025) EndedAt: 2025-11-20 16:51:00 -0500 (Thu, 20 Nov 2025) EllapsedTime: 26.5 seconds RetCode: 0 Status: OK