Package: GrafGen Version: 1.6.0 Command: /Library/Frameworks/R.framework/Resources/bin/R CMD build --keep-empty-dirs --no-resave-data GrafGen StartedAt: 2025-11-25 01:43:41 -0500 (Tue, 25 Nov 2025) EndedAt: 2025-11-25 01:44:23 -0500 (Tue, 25 Nov 2025) EllapsedTime: 42.3 seconds RetCode: 0 Status: OK PackageFile: GrafGen_1.6.0.tar.gz PackageFileSize: 3.104 MiB