Package: GmicR Version: 1.24.0 Command: /Library/Frameworks/R.framework/Resources/bin/R CMD build --keep-empty-dirs --no-resave-data GmicR StartedAt: 2025-11-03 17:12:49 -0500 (Mon, 03 Nov 2025) EndedAt: 2025-11-03 17:25:14 -0500 (Mon, 03 Nov 2025) EllapsedTime: 744.8 seconds RetCode: 0 Status: OK PackageFile: GmicR_1.24.0.tar.gz PackageFileSize: 3.493 MiB