Package: GmicR Version: 1.22.0 Command: /home/biocbuild/R/R/bin/R CMD INSTALL GmicR StartedAt: 2025-10-13 21:05:10 -0000 (Mon, 13 Oct 2025) EndedAt: 2025-10-13 21:05:49 -0000 (Mon, 13 Oct 2025) EllapsedTime: 38.3 seconds RetCode: 0 Status: OK