Package: GlobalAncova Version: 4.28.0 Command: /home/biocbuild/bbs-3.22-bioc/R/bin/R CMD INSTALL GlobalAncova StartedAt: 2025-11-13 15:31:19 -0500 (Thu, 13 Nov 2025) EndedAt: 2025-11-13 15:31:44 -0500 (Thu, 13 Nov 2025) EllapsedTime: 24.8 seconds RetCode: 0 Status: OK