Package: GlobalAncova Version: 4.28.0 Command: /home/biocbuild/bbs-3.22-bioc/R/bin/R CMD build --keep-empty-dirs --no-resave-data --md5 GlobalAncova StartedAt: 2025-11-13 17:56:24 -0500 (Thu, 13 Nov 2025) EndedAt: 2025-11-13 18:03:26 -0500 (Thu, 13 Nov 2025) EllapsedTime: 422.3 seconds RetCode: 0 Status: OK PackageFile: GlobalAncova_4.28.0.tar.gz PackageFileSize: 1.21 MiB