Package: Glimma Version: 2.20.0 Command: /home/biocbuild/bbs-3.22-bioc/R/bin/R CMD INSTALL Glimma StartedAt: 2025-11-14 15:23:50 -0500 (Fri, 14 Nov 2025) EndedAt: 2025-11-14 15:24:20 -0500 (Fri, 14 Nov 2025) EllapsedTime: 29.8 seconds RetCode: 0 Status: OK