Package: Glimma Version: 2.20.0 Command: /home/biocbuild/bbs-3.22-bioc/R/bin/R CMD build --keep-empty-dirs --no-resave-data --md5 Glimma StartedAt: 2025-11-14 17:56:38 -0500 (Fri, 14 Nov 2025) EndedAt: 2025-11-14 18:03:52 -0500 (Fri, 14 Nov 2025) EllapsedTime: 433.3 seconds RetCode: 0 Status: OK PackageFile: Glimma_2.20.0.tar.gz PackageFileSize: 11.12 MiB