Package: GladiaTOX Version: 1.26.0 Command: /home/biocbuild/bbs-3.22-bioc/R/bin/R CMD INSTALL GladiaTOX StartedAt: 2025-11-11 15:12:50 -0500 (Tue, 11 Nov 2025) EndedAt: 2025-11-11 15:13:03 -0500 (Tue, 11 Nov 2025) EllapsedTime: 12.7 seconds RetCode: 0 Status: OK