Package: GladiaTOX Version: 1.26.0 Command: /home/biocbuild/bbs-3.22-bioc/R/bin/R CMD build --keep-empty-dirs --no-resave-data --md5 GladiaTOX StartedAt: 2025-11-11 17:58:24 -0500 (Tue, 11 Nov 2025) EndedAt: 2025-11-11 18:01:54 -0500 (Tue, 11 Nov 2025) EllapsedTime: 210.2 seconds RetCode: 0 Status: OK PackageFile: GladiaTOX_1.26.0.tar.gz PackageFileSize: 3.984 MiB