Package: GeomxTools Version: 3.14.0 Command: /home/biocbuild/R/R/bin/R CMD INSTALL GeomxTools StartedAt: 2025-11-10 21:22:21 -0000 (Mon, 10 Nov 2025) EndedAt: 2025-11-10 21:22:58 -0000 (Mon, 10 Nov 2025) EllapsedTime: 36.9 seconds RetCode: 0 Status: OK