Package: GeomxTools Version: 3.14.0 Command: /home/biocbuild/R/R/bin/R CMD build --keep-empty-dirs --no-resave-data GeomxTools StartedAt: 2025-11-11 02:00:48 -0000 (Tue, 11 Nov 2025) EndedAt: 2025-11-11 02:10:01 -0000 (Tue, 11 Nov 2025) EllapsedTime: 553.2 seconds RetCode: 0 Status: OK PackageFile: GeomxTools_3.14.0.tar.gz PackageFileSize: 14.26 MiB