Package: GeomxTools Version: 3.12.0 Command: chmod a+r GeomxTools -R && E:\biocbuild\bbs-3.21-bioc\R\bin\R.exe CMD build --keep-empty-dirs --no-resave-data GeomxTools StartedAt: 2025-08-14 19:23:33 -0400 (Thu, 14 Aug 2025) EndedAt: 2025-08-14 19:32:53 -0400 (Thu, 14 Aug 2025) EllapsedTime: 559.9 seconds RetCode: 0 Status: OK PackageFile: GeomxTools_3.12.0.tar.gz PackageFileSize: 13.93 MiB