Package: GeomxTools Version: 3.14.0 Command: /home/biocbuild/bbs-3.22-bioc/R/bin/R CMD check --install=check:GeomxTools.install-out.txt --library=/home/biocbuild/bbs-3.22-bioc/R/site-library --timings GeomxTools_3.14.0.tar.gz StartedAt: 2025-11-12 00:04:47 -0500 (Wed, 12 Nov 2025) EndedAt: 2025-11-12 00:29:46 -0500 (Wed, 12 Nov 2025) EllapsedTime: 1499.7 seconds RetCode: 0 Status: OK CheckDir: GeomxTools.Rcheck Warnings: 0