Package: GeomxTools Version: 3.14.0 Command: /home/biocbuild/bbs-3.22-bioc/R/bin/R CMD build --keep-empty-dirs --no-resave-data --md5 GeomxTools StartedAt: 2025-11-11 17:54:33 -0500 (Tue, 11 Nov 2025) EndedAt: 2025-11-11 18:00:10 -0500 (Tue, 11 Nov 2025) EllapsedTime: 337.3 seconds RetCode: 0 Status: OK PackageFile: GeomxTools_3.14.0.tar.gz PackageFileSize: 15.63 MiB