Package: GeomxTools Version: 3.12.1 Command: /home/biocbuild/R/R/bin/R CMD INSTALL GeomxTools StartedAt: 2025-09-25 20:29:05 -0000 (Thu, 25 Sep 2025) EndedAt: 2025-09-25 20:29:44 -0000 (Thu, 25 Sep 2025) EllapsedTime: 38.8 seconds RetCode: 0 Status: OK