Package: GeomxTools Version: 3.12.1 Command: /home/biocbuild/R/R/bin/R CMD build --keep-empty-dirs --no-resave-data GeomxTools StartedAt: 2025-09-26 01:59:41 -0000 (Fri, 26 Sep 2025) EndedAt: 2025-09-26 02:09:53 -0000 (Fri, 26 Sep 2025) EllapsedTime: 611.7 seconds RetCode: 0 Status: OK PackageFile: GeomxTools_3.12.1.tar.gz PackageFileSize: 15.51 MiB