Package: GeomxTools Version: 3.12.1 Command: /Library/Frameworks/R.framework/Resources/bin/R CMD build --keep-empty-dirs --no-resave-data GeomxTools StartedAt: 2025-09-26 01:01:43 -0400 (Fri, 26 Sep 2025) EndedAt: 2025-09-26 01:08:56 -0400 (Fri, 26 Sep 2025) EllapsedTime: 433.1 seconds RetCode: 0 Status: OK PackageFile: GeomxTools_3.12.1.tar.gz PackageFileSize: 17.04 MiB