Package: GeomxTools Version: 3.12.1 Maintainer: Maddy Griswold MaintainerEmail: mgriswold at nanostring.com git_url: https://git.bioconductor.org/packages/GeomxTools git_branch: RELEASE_3_21 git_last_commit: b5554ad git_last_commit_date: 2025-09-12 13:20:26 -0400 (Fri, 12 Sep 2025)