Package: GeoTcgaData Version: 2.10.0 Command: /home/biocbuild/R/R/bin/R CMD INSTALL GeoTcgaData StartedAt: 2025-11-10 21:24:47 -0000 (Mon, 10 Nov 2025) EndedAt: 2025-11-10 21:25:35 -0000 (Mon, 10 Nov 2025) EllapsedTime: 47.4 seconds RetCode: 0 Status: OK