Package: GeoTcgaData Version: 2.10.0 Command: /home/biocbuild/R/R/bin/R CMD build --keep-empty-dirs --no-resave-data GeoTcgaData StartedAt: 2025-11-11 02:00:53 -0000 (Tue, 11 Nov 2025) EndedAt: 2025-11-11 02:02:16 -0000 (Tue, 11 Nov 2025) EllapsedTime: 83.0 seconds RetCode: 0 Status: OK PackageFile: GeoTcgaData_2.10.0.tar.gz PackageFileSize: 3.319 MiB