Package: GeoTcgaData Version: 2.10.0 Command: /home/biocbuild/bbs-3.22-bioc/R/bin/R CMD INSTALL GeoTcgaData StartedAt: 2025-11-11 15:22:22 -0500 (Tue, 11 Nov 2025) EndedAt: 2025-11-11 15:23:00 -0500 (Tue, 11 Nov 2025) EllapsedTime: 37.8 seconds RetCode: 0 Status: OK