Package: GeoTcgaData Version: 2.10.0 Command: /home/biocbuild/bbs-3.22-bioc/R/bin/R CMD build --keep-empty-dirs --no-resave-data --md5 GeoTcgaData StartedAt: 2025-11-11 17:55:37 -0500 (Tue, 11 Nov 2025) EndedAt: 2025-11-11 17:56:40 -0500 (Tue, 11 Nov 2025) EllapsedTime: 63.0 seconds RetCode: 0 Status: OK PackageFile: GeoTcgaData_2.10.0.tar.gz PackageFileSize: 3.321 MiB