Package: GeoTcgaData Version: 2.8.0 Command: /Library/Frameworks/R.framework/Resources/bin/R CMD INSTALL GeoTcgaData StartedAt: 2025-10-09 15:30:46 -0400 (Thu, 09 Oct 2025) EndedAt: 2025-10-09 15:32:00 -0400 (Thu, 09 Oct 2025) EllapsedTime: 73.6 seconds RetCode: 0 Status: OK