Package: GeoTcgaData Version: 2.8.0 Command: rm -rf GeoTcgaData.buildbin-libdir && mkdir GeoTcgaData.buildbin-libdir && /Users/biocbuild/BBS/utils/build-universal.sh GeoTcgaData_2.8.0.tar.gz /Library/Frameworks/R.framework/Resources/bin/R GeoTcgaData.buildbin-libdir StartedAt: 2025-10-10 13:35:43 -0400 (Fri, 10 Oct 2025) EndedAt: 2025-10-10 13:37:40 -0400 (Fri, 10 Oct 2025) EllapsedTime: 117.1 seconds RetCode: 0 Status: OK PackageFile: GeoTcgaData_2.8.0.tgz PackageFileSize: 3.423 MiB