Package: GeoDiff Version: 1.16.0 Command: /home/biocbuild/R/R/bin/R CMD build --keep-empty-dirs --no-resave-data GeoDiff StartedAt: 2025-11-11 01:58:53 -0000 (Tue, 11 Nov 2025) EndedAt: 2025-11-11 02:04:59 -0000 (Tue, 11 Nov 2025) EllapsedTime: 366.1 seconds RetCode: 0 Status: OK PackageFile: GeoDiff_1.16.0.tar.gz PackageFileSize: 4.395 MiB