Package: GeoDiff Version: 1.14.0 Command: chmod a+r GeoDiff -R && E:\biocbuild\bbs-3.21-bioc\R\bin\R.exe CMD build --keep-empty-dirs --no-resave-data GeoDiff StartedAt: 2025-08-14 19:22:40 -0400 (Thu, 14 Aug 2025) EndedAt: 2025-08-14 19:28:42 -0400 (Thu, 14 Aug 2025) EllapsedTime: 361.7 seconds RetCode: 0 Status: OK PackageFile: GeoDiff_1.14.0.tar.gz PackageFileSize: 4.344 MiB