Package: GeoDiff Version: 1.16.0 Command: /home/biocbuild/bbs-3.22-bioc/R/bin/R CMD INSTALL GeoDiff StartedAt: 2025-11-11 15:20:43 -0500 (Tue, 11 Nov 2025) EndedAt: 2025-11-11 15:22:09 -0500 (Tue, 11 Nov 2025) EllapsedTime: 85.3 seconds RetCode: 0 Status: OK