Package: GeoDiff Version: 1.16.0 Command: /home/biocbuild/bbs-3.22-bioc/R/bin/R CMD check --install=check:GeoDiff.install-out.txt --library=/home/biocbuild/bbs-3.22-bioc/R/site-library --timings GeoDiff_1.16.0.tar.gz StartedAt: 2025-11-12 00:04:00 -0500 (Wed, 12 Nov 2025) EndedAt: 2025-11-12 00:11:16 -0500 (Wed, 12 Nov 2025) EllapsedTime: 436.6 seconds RetCode: 0 Status: OK CheckDir: GeoDiff.Rcheck Warnings: 0