Package: GeoDiff Version: 1.14.0 Command: /home/biocbuild/R/R/bin/R CMD INSTALL GeoDiff StartedAt: 2025-09-25 20:29:45 -0000 (Thu, 25 Sep 2025) EndedAt: 2025-09-25 20:32:05 -0000 (Thu, 25 Sep 2025) EllapsedTime: 139.5 seconds RetCode: 0 Status: OK