Package: GenomicTuples Version: 1.44.0 Command: /home/biocbuild/bbs-3.22-bioc/R/bin/R CMD INSTALL GenomicTuples StartedAt: 2025-11-11 15:35:20 -0500 (Tue, 11 Nov 2025) EndedAt: 2025-11-11 15:35:47 -0500 (Tue, 11 Nov 2025) EllapsedTime: 26.7 seconds RetCode: 0 Status: OK