Package: GenomicTuples Version: 1.44.0 Command: /Library/Frameworks/R.framework/Resources/bin/R CMD build --keep-empty-dirs --no-resave-data GenomicTuples StartedAt: 2025-11-10 16:30:56 -0500 (Mon, 10 Nov 2025) EndedAt: 2025-11-10 16:31:10 -0500 (Mon, 10 Nov 2025) EllapsedTime: 14.1 seconds RetCode: 0 Status: OK PackageFile: GenomicTuples_1.44.0.tar.gz PackageFileSize: 303.3 KiB