Package: GenomicSuperSignature Version: 1.18.0 Command: /home/biocbuild/bbs-3.22-bioc/R/bin/R CMD INSTALL GenomicSuperSignature StartedAt: 2025-11-13 15:33:19 -0500 (Thu, 13 Nov 2025) EndedAt: 2025-11-13 15:33:49 -0500 (Thu, 13 Nov 2025) EllapsedTime: 29.6 seconds RetCode: 0 Status: OK