Package: GenomicSuperSignature Version: 1.18.0 Command: /Library/Frameworks/R.framework/Resources/bin/R CMD build --keep-empty-dirs --no-resave-data GenomicSuperSignature StartedAt: 2025-11-02 16:30:44 -0500 (Sun, 02 Nov 2025) EndedAt: 2025-11-02 16:32:52 -0500 (Sun, 02 Nov 2025) EllapsedTime: 128.3 seconds RetCode: 0 Status: OK PackageFile: GenomicSuperSignature_1.18.0.tar.gz PackageFileSize: 6.357 MiB