Package: GenomicSuperSignature Version: 1.18.0 Command: rm -rf GenomicSuperSignature.buildbin-libdir && mkdir GenomicSuperSignature.buildbin-libdir && /Users/biocbuild/BBS/utils/build-universal.sh GenomicSuperSignature_1.18.0.tar.gz /Library/Frameworks/R.framework/Resources/bin/R GenomicSuperSignature.buildbin-libdir StartedAt: 2025-11-04 23:05:11 -0500 (Tue, 04 Nov 2025) EndedAt: 2025-11-04 23:05:26 -0500 (Tue, 04 Nov 2025) EllapsedTime: 14.3 seconds RetCode: 0 Status: OK PackageFile: GenomicSuperSignature_1.18.0.tgz PackageFileSize: 7 MiB