Package: GenomicScores Version: 2.22.0 Command: /home/biocbuild/bbs-3.22-bioc/R/bin/R CMD INSTALL GenomicScores StartedAt: 2025-11-14 15:37:58 -0500 (Fri, 14 Nov 2025) EndedAt: 2025-11-14 15:38:29 -0500 (Fri, 14 Nov 2025) EllapsedTime: 31.2 seconds RetCode: 0 Status: OK