Package: GenomicScores Version: 2.22.0 Command: /home/biocbuild/bbs-3.22-bioc/R/bin/R CMD build --keep-empty-dirs --no-resave-data --md5 GenomicScores StartedAt: 2025-11-16 17:55:33 -0500 (Sun, 16 Nov 2025) EndedAt: 2025-11-16 17:57:42 -0500 (Sun, 16 Nov 2025) EllapsedTime: 129.1 seconds RetCode: 0 Status: OK PackageFile: GenomicScores_2.22.0.tar.gz PackageFileSize: 1.775 MiB