Package: GenomicRanges Version: 1.62.0 Command: /home/biocbuild/bbs-3.22-bioc/R/bin/R CMD INSTALL GenomicRanges StartedAt: 2025-11-11 15:19:03 -0500 (Tue, 11 Nov 2025) EndedAt: 2025-11-11 15:19:23 -0500 (Tue, 11 Nov 2025) EllapsedTime: 19.8 seconds RetCode: 0 Status: OK