Package: GenomicRanges Version: 1.62.0 Command: /home/biocbuild/bbs-3.22-bioc/R/bin/R CMD build --keep-empty-dirs --no-resave-data --md5 GenomicRanges StartedAt: 2025-11-11 17:53:27 -0500 (Tue, 11 Nov 2025) EndedAt: 2025-11-11 17:55:32 -0500 (Tue, 11 Nov 2025) EllapsedTime: 125.1 seconds RetCode: 1 Status: ERROR PackageFile: None PackageFileSize: NA