Package: GenomicRanges Version: 1.60.0 Command: /home/biocbuild/R/R/bin/R CMD build --keep-empty-dirs --no-resave-data GenomicRanges StartedAt: 2025-10-14 01:07:25 -0000 (Tue, 14 Oct 2025) EndedAt: 2025-10-14 01:10:46 -0000 (Tue, 14 Oct 2025) EllapsedTime: 201.0 seconds RetCode: 1 Status: ERROR PackageFile: None PackageFileSize: NA