Package: GenomicRanges Version: 1.60.0 Command: /Library/Frameworks/R.framework/Resources/bin/R CMD INSTALL GenomicRanges StartedAt: 2025-04-21 15:10:15 -0400 (Mon, 21 Apr 2025) EndedAt: 2025-04-21 15:10:24 -0400 (Mon, 21 Apr 2025) EllapsedTime: 8.2 seconds RetCode: 0 Status: OK