Package: GenomicRanges Version: 1.60.0 Command: /Library/Frameworks/R.framework/Resources/bin/R CMD build --keep-empty-dirs --no-resave-data GenomicRanges StartedAt: 2025-04-21 16:26:32 -0400 (Mon, 21 Apr 2025) EndedAt: 2025-04-21 16:28:03 -0400 (Mon, 21 Apr 2025) EllapsedTime: 90.9 seconds RetCode: 0 Status: OK PackageFile: GenomicRanges_1.60.0.tar.gz PackageFileSize: 1.302 MiB