Package: GenomicPlot Version: 1.8.0 Command: /home/biocbuild/bbs-3.22-bioc/R/bin/R CMD INSTALL GenomicPlot StartedAt: 2025-11-11 15:49:16 -0500 (Tue, 11 Nov 2025) EndedAt: 2025-11-11 15:50:09 -0500 (Tue, 11 Nov 2025) EllapsedTime: 53.0 seconds RetCode: 0 Status: OK