Package: GenomicPlot Version: 1.8.0 Command: /home/biocbuild/bbs-3.22-bioc/R/bin/R CMD check --install=check:GenomicPlot.install-out.txt --library=/home/biocbuild/bbs-3.22-bioc/R/site-library --timings GenomicPlot_1.8.0.tar.gz StartedAt: 2025-11-12 00:01:16 -0500 (Wed, 12 Nov 2025) EndedAt: 2025-11-12 00:14:06 -0500 (Wed, 12 Nov 2025) EllapsedTime: 770.9 seconds RetCode: 0 Status: OK CheckDir: GenomicPlot.Rcheck Warnings: 0