Package: GenomicPlot Version: 1.6.1 Command: /home/biocbuild/bbs-3.21-bioc/R/bin/R CMD INSTALL GenomicPlot StartedAt: 2025-10-15 15:42:22 -0400 (Wed, 15 Oct 2025) EndedAt: 2025-10-15 15:43:14 -0400 (Wed, 15 Oct 2025) EllapsedTime: 52.5 seconds RetCode: 0 Status: OK