Package: GenomicPlot Version: 1.6.0 Command: rm -rf GenomicPlot.buildbin-libdir && mkdir GenomicPlot.buildbin-libdir && /Users/biocbuild/BBS/utils/build-universal.sh GenomicPlot_1.6.0.tar.gz /Library/Frameworks/R.framework/Resources/bin/R GenomicPlot.buildbin-libdir StartedAt: 2025-04-22 00:47:13 -0400 (Tue, 22 Apr 2025) EndedAt: 2025-04-22 00:48:26 -0400 (Tue, 22 Apr 2025) EllapsedTime: 72.9 seconds RetCode: 0 Status: OK PackageFile: GenomicPlot_1.6.0.tgz PackageFileSize: 4.238 MiB