Package: GenomicPlot Version: 1.6.1 Command: /Library/Frameworks/R.framework/Resources/bin/R CMD INSTALL GenomicPlot StartedAt: 2025-10-13 17:28:40 -0400 (Mon, 13 Oct 2025) EndedAt: 2025-10-13 17:29:40 -0400 (Mon, 13 Oct 2025) EllapsedTime: 60.6 seconds RetCode: 0 Status: OK