Package: GenomicPlot Version: 1.6.1 Command: /Library/Frameworks/R.framework/Resources/bin/R CMD build --keep-empty-dirs --no-resave-data GenomicPlot StartedAt: 2025-10-14 01:01:56 -0400 (Tue, 14 Oct 2025) EndedAt: 2025-10-14 01:04:52 -0400 (Tue, 14 Oct 2025) EllapsedTime: 175.2 seconds RetCode: 0 Status: OK PackageFile: GenomicPlot_1.6.1.tar.gz PackageFileSize: 4.097 MiB