Package: GenomicPlot Version: 1.6.1 Maintainer: Shuye Pu MaintainerEmail: shuye2009 at gmail.com git_url: https://git.bioconductor.org/packages/GenomicPlot git_branch: RELEASE_3_21 git_last_commit: 7b61baf git_last_commit_date: 2025-06-26 16:45:34 -0400 (Thu, 26 Jun 2025)