Package: GenomicOZone Version: 1.24.0 Command: /home/biocbuild/bbs-3.22-bioc/R/bin/R CMD INSTALL GenomicOZone StartedAt: 2025-11-14 15:49:51 -0500 (Fri, 14 Nov 2025) EndedAt: 2025-11-14 15:50:58 -0500 (Fri, 14 Nov 2025) EllapsedTime: 67.5 seconds RetCode: 0 Status: OK